BEGIN:VCALENDAR
VERSION:2.0
PRODID:-//wp-events-plugin.com//7.2.3.1//EN
BEGIN:VEVENT
UID:165@pepipe.org
DTSTART;TZID=America/New_York:20260505T140000
DTEND;TZID=America/New_York:20260505T151500
DTSTAMP:20260325T021947Z
URL:https://pepipe.org/events/05052026-webinar/
SUMMARY:HDPE in all Markets Webinar
DESCRIPTION:Register Here\n\nDownload Flyer\n\nWANT TO BETTER UNDERSTAND HO
 W HDPE IS USED ACROSS THE NINE MAJOR PIPE MARKETS?\nTHEN THIS ADVANCED\, H
 DPEORIENTED\, FREE WEBINAR IS FOR YOU!\n\nDeveloping an understanding of h
 ow HDPE is used across the nine major pipe markets is valuable for three k
 ey reasons. First\, HDPE pipe dominates in more than half of the markets w
 here pipe is used in North America and around the world. Second\, recogniz
 ing which materials HDPE competes with helps engineers make informed pipe 
 selections during design. Finally\, examining how and why HDPE is chosen r
 eveals the features and benefits that make it stand out\; longevity\, ease
  of installation and overall cost effectiveness. This session will highlig
 ht real-world case studies that illustrate these advantages in action. CEU
 /PDH offered\, just stay until the end and respond to the question. #fusei
 torloseit\n\nModerator: Peter Dyke\, Executive Director\, Alliance for PE 
 Pipe\nSpeakers: Dan Landy Alliance for PE Pipe\; Stephen Boros Pipeline Pl
 astics\n\n 	Access to national HDPE experts\n 	Content from our highly suc
 cessful roadshow events in a webinar format\n 	CEU/PDH available (dependen
 t on your state's requirements)\n 	Session lasts 75 minutes\n\nRegister He
 re\n\nDownload Flyer\n\nSponsor\n
CATEGORIES:Webinar
LOCATION:https://us06web.zoom.us/webinar/register/WN_Zo_Q5uS_QoaYLzunO60nZg
 #/registration
END:VEVENT
BEGIN:VTIMEZONE
TZID:America/New_York
X-LIC-LOCATION:America/New_York
BEGIN:DAYLIGHT
DTSTART:20260308T030000
TZOFFSETFROM:-0500
TZOFFSETTO:-0400
TZNAME:EDT
END:DAYLIGHT
END:VTIMEZONE
END:VCALENDAR