BEGIN:VCALENDAR
VERSION:2.0
PRODID:-//wp-events-plugin.com//7.2.3.1//EN
BEGIN:VEVENT
UID:167@pepipe.org
DTSTART;TZID=America/Los_Angeles:20260514T073000
DTEND;TZID=America/Los_Angeles:20260514T134500
DTSTAMP:20260331T033025Z
URL:https://pepipe.org/events/05142026-roadshow/
SUMMARY:HDPE Pipe Advanced Total Solutions Roadshow
DESCRIPTION:Download Flyer\n\nCALLING ALL WATER &amp\; WASTEWATER PROFESSIO
 NALS:\n\nMunicipal Water\, Wastewater staff\, Public Works staff\, Consult
 ing Engineers\, Pipe Contractors\, Utility Officers\, Repair Crews &amp\; 
 Public Works Management: THIS FREE SHOW IS FOR YOU!\nProgram:\nCombined Pr
 ogram\nSign-In and Demonstrations - 7:30 AM\nHDPE 101 Performance Features
  - 8:30 AM\nInstallation Methods - 10:00 AM\n\nLunch - 11:30 AM\n\nEnginee
 r Track\nHDPE 301 Design - 12:15 PM\nOR\nField Track\nServices\, Repair &a
 mp\; Datalogger - 12:15 PM\n\nEnd - 1:45 PM\nIncluded\n\n 	\n\n 	Dual Prog
 ram for Contractors &amp\; Engineers\n 	Demos\, light breakfast &amp\; Cof
 fee at 7:30 AM\n 	Set program begins at 8:30 AM\n 	Catered Lunch\n 	Access
  to national HDPE experts\n 	Win an iPad\n 	PDH for Engineers\n\n\n\nDownl
 oad Flyer\nSponsor\n
CATEGORIES:Roadshow
LOCATION:Lincoln City Community Center Multipurpose Room\, 2150 NE Oar Plac
 e\, Lincoln City\, OR\, 97367\, United States
X-APPLE-STRUCTURED-LOCATION;VALUE=URI;X-ADDRESS=2150 NE Oar Place\, Lincoln
  City\, OR\, 97367\, United States;X-APPLE-RADIUS=100;X-TITLE=Lincoln City
  Community Center Multipurpose Room:geo:0,0
END:VEVENT
BEGIN:VTIMEZONE
TZID:America/Los_Angeles
X-LIC-LOCATION:America/Los_Angeles
BEGIN:DAYLIGHT
DTSTART:20260308T030000
TZOFFSETFROM:-0800
TZOFFSETTO:-0700
TZNAME:PDT
END:DAYLIGHT
END:VTIMEZONE
END:VCALENDAR