BEGIN:VCALENDAR
VERSION:2.0
PRODID:-//wp-events-plugin.com//7.2.3.1//EN
BEGIN:VEVENT
UID:62@pepipe.org
DTSTART;TZID=America/New_York:20241203T080000
DTEND;TZID=America/New_York:20241203T180000
DTSTAMP:20240908T001241Z
URL:https://pepipe.org/events/pe-showcase-24/
SUMMARY:PE Showcase '24
DESCRIPTION:Register Here\n\nThe Showcase dates are December 3rd - December
  6th. Anchored by WL Plastics\, Strongbridge and Pipeline Plastics\, the s
 ponsors are lining up to support this great\, educational and annual HDPE 
 pipe industry event. We have several cool excursions including balloon rid
 es\, desert dune riders\, mountain hikes and a spouse's tour of Sedona. Ch
 eck out all the offerings at www.pe-showcase.org.\n\nRegister Here\nSponso
 r\n
CATEGORIES:Webinar
LOCATION:https://www.pe-showcase.org
END:VEVENT
BEGIN:VTIMEZONE
TZID:America/New_York
X-LIC-LOCATION:America/New_York
BEGIN:STANDARD
DTSTART:20241103T010000
TZOFFSETFROM:-0400
TZOFFSETTO:-0500
TZNAME:EST
END:STANDARD
END:VTIMEZONE
END:VCALENDAR