BEGIN:VCALENDAR
VERSION:2.0
PRODID:-//wp-events-plugin.com//7.2.3.1//EN
BEGIN:VEVENT
UID:132@pepipe.org
DTSTART;VALUE=DATE:20260629
DTEND;VALUE=DATE:20260630
DTSTAMP:20251218T040105Z
URL:https://pepipe.org/events/pea-mission-project-peru/
SUMMARY:PEA Mission Project - Peru
DESCRIPTION:WANT TO VISIT PERU?\nThe PE Alliance is sponsoring this event. 
 WL Plastics\, McElroy\, ISCO and Integrity Fusion have all contributed to 
 it in a host of ways. Engineers Without Borders helped design it and has a
  volunteer Spanish speaker and engineer participating as project manager.\
 n\nLooking for ADVENTURE and we do mean adventure. Want to work on a missi
 on project where the Alliance and Engineers Without Borders are building a
  water system for a town of 500 people. Once the water is running the loca
 l school will receive free lunches because the “Yanesha kids” will now
  have water at the school? Want to join fellow HDPE pipe industry colleagu
 es ?\n\nLearn More
CATEGORIES:Roadshow,Webinar
LOCATION:https://www.pepipe.org/peru
END:VEVENT
END:VCALENDAR