BEGIN:VCALENDAR
VERSION:2.0
PRODID:-//wp-events-plugin.com//7.2.3.1//EN
BEGIN:VEVENT
UID:72@pepipe.org
DTSTART;TZID=America/Phoenix:20241105T073000
DTEND;TZID=America/Phoenix:20241105T134500
DTSTAMP:20241015T014551Z
URL:https://pepipe.org/events/roadshow-11052024/
SUMMARY:HDPE Pipe Advanced Total Solutions Roadshow
DESCRIPTION:CALLING ALL WATER & WASTEWATER PROFESSIONALS:\n\nMunicipal Wate
 r\, Wastewater staff\, Public Works staff\, Consulting Engineers\, Pipe Co
 ntractors\, Utility Officers\, Repair Crews & Public Works Management: THI
 S FREE SHOW IS FOR YOU!\n\nProgram:\nCombined Program\nSign-In and Demonst
 rations - 7:30 AM\nHDPE 101 Performance Features - 8:30 AM\nInstallation M
 ethods - 10:00 AM\n\nLunch - 11:30 AM\n\nEngineer Track HDPE 301 Design - 
 12:15 PM\nOR\nField Track Services\, Repair & Datalogger - 12:15 PM\n\nEnd
  - 1:45 PM\n\nIncluded\n\n 	Dual Program for Contractors & Engineers\n 	De
 mos\, Bagels & Coffee at 7:30 AM\n 	Set program begins at 8:30 AM\n 	Cater
 ed Lunch\n 	Access to national HDPE experts\n 	Win an iPad\n	CEU for engin
 eers\n\nDownload Flyer\nSponsor\n\n
CATEGORIES:Roadshow
LOCATION:Colorado Springs Winwater\, 7821 Red Granite Loop\, Colorado Sprin
 gs\, CO\, 80939\, United States
X-APPLE-STRUCTURED-LOCATION;VALUE=URI;X-ADDRESS=7821 Red Granite Loop\, Col
 orado Springs\, CO\, 80939\, United States;X-APPLE-RADIUS=100;X-TITLE=Colo
 rado Springs Winwater:geo:0,0
END:VEVENT
BEGIN:VTIMEZONE
TZID:America/Phoenix
X-LIC-LOCATION:America/Phoenix
BEGIN:STANDARD
DTSTART:20231106T073000
TZOFFSETFROM:-0700
TZOFFSETTO:-0700
TZNAME:MST
END:STANDARD
END:VTIMEZONE
END:VCALENDAR